BEGIN:VCALENDAR
VERSION:2.0
PRODID:-//Academia de Inversionistas IZ - ECPv6.15.20//NONSGML v1.0//EN
CALSCALE:GREGORIAN
METHOD:PUBLISH
X-ORIGINAL-URL:https://www.ivanzavalasteidel.com
X-WR-CALDESC:Eventos para Academia de Inversionistas IZ
REFRESH-INTERVAL;VALUE=DURATION:PT1H
X-Robots-Tag:noindex
X-PUBLISHED-TTL:PT1H
BEGIN:VTIMEZONE
TZID:America/Puerto_Rico
BEGIN:STANDARD
TZOFFSETFROM:-0400
TZOFFSETTO:-0400
TZNAME:AST
DTSTART:20240101T000000
END:STANDARD
END:VTIMEZONE
BEGIN:VEVENT
DTSTART;TZID=America/Puerto_Rico:20250227T183000
DTEND;TZID=America/Puerto_Rico:20250228T170000
DTSTAMP:20260423T050352
CREATED:20250227T213451Z
LAST-MODIFIED:20250227T213451Z
UID:64614-1740681000-1740762000@www.ivanzavalasteidel.com
SUMMARY:evento test 1
DESCRIPTION:este es un evento de prueba
URL:https://www.ivanzavalasteidel.com/event/evento-test-1/
END:VEVENT
BEGIN:VEVENT
DTSTART;TZID=America/Puerto_Rico:20250227T080000
DTEND;TZID=America/Puerto_Rico:20250227T170000
DTSTAMP:20260423T050352
CREATED:20250227T175858Z
LAST-MODIFIED:20250227T175858Z
UID:64611-1740643200-1740675600@www.ivanzavalasteidel.com
SUMMARY:evento de prueba
DESCRIPTION:
URL:https://www.ivanzavalasteidel.com/event/evento-de-prueba/
END:VEVENT
END:VCALENDAR